BEGIN:VCALENDAR
VERSION:2.0
PRODID:-//Worcester Festival - ECPv6.15.20//NONSGML v1.0//EN
CALSCALE:GREGORIAN
METHOD:PUBLISH
X-WR-CALNAME:Worcester Festival
X-ORIGINAL-URL:https://worcesterfestival.co.uk
X-WR-CALDESC:Events for Worcester Festival
REFRESH-INTERVAL;VALUE=DURATION:PT1H
X-Robots-Tag:noindex
X-PUBLISHED-TTL:PT1H
BEGIN:VTIMEZONE
TZID:Europe/London
BEGIN:DAYLIGHT
TZOFFSETFROM:+0000
TZOFFSETTO:+0100
TZNAME:BST
DTSTART:20250330T010000
END:DAYLIGHT
BEGIN:STANDARD
TZOFFSETFROM:+0100
TZOFFSETTO:+0000
TZNAME:GMT
DTSTART:20251026T010000
END:STANDARD
BEGIN:DAYLIGHT
TZOFFSETFROM:+0000
TZOFFSETTO:+0100
TZNAME:BST
DTSTART:20260329T010000
END:DAYLIGHT
BEGIN:STANDARD
TZOFFSETFROM:+0100
TZOFFSETTO:+0000
TZNAME:GMT
DTSTART:20261025T010000
END:STANDARD
BEGIN:DAYLIGHT
TZOFFSETFROM:+0000
TZOFFSETTO:+0100
TZNAME:BST
DTSTART:20270328T010000
END:DAYLIGHT
BEGIN:STANDARD
TZOFFSETFROM:+0100
TZOFFSETTO:+0000
TZNAME:GMT
DTSTART:20271031T010000
END:STANDARD
END:VTIMEZONE
BEGIN:VEVENT
DTSTART;TZID=Europe/London:20260821T000000
DTEND;TZID=Europe/London:20260821T235959
DTSTAMP:20260423T120042
CREATED:20260422T125044Z
LAST-MODIFIED:20260422T125044Z
UID:10004013-1787270400-1787356799@worcesterfestival.co.uk
SUMMARY:Percy Peacock Colouring Competition
DESCRIPTION:Oh no – Percy’s all washed out and he needs you to colour him back in! Download a colour-me-in Percy form from below (available from 17th August) or grab one from the Tourist Information Centre or The Pod\, Friary Walk (formally Crowngate) and go as wild as you like putting him back to his full technicolour glory! Crayons\, paint\, feathers\, sparkles…anything goes! Then take a snap of your work of art and email it to marketing@worcesterfestival.co.uk or drop it in to the Tourist Information Centre or The POD\, Friary Walk. The entries will be judged in three different categories\, 2-5 year olds\, 6-9 year olds and 10 and over. The winners of each category will win a very special Worcester Festival prize!  Happy colouring!  By entering\, you automatically give us permission to display entries on The Worcester Festival’s website and social and printed media. Personal information such as child’s full name and age will be redacted from entries.
URL:https://worcesterfestival.co.uk/event/percy-peacock-colouring-competition/2026-08-21/
LOCATION:The Pod\, Friary Walk/ Worcester TIC /Worcester Festival Website
CATEGORIES:Competition,Family,Free,Get Creative
ATTACH;FMTTYPE=image/png:https://worcesterfestival.co.uk/wp-content/uploads/2025/07/Untitled-design-20.png
END:VEVENT
BEGIN:VEVENT
DTSTART;TZID=Europe/London:20260821T000000
DTEND;TZID=Europe/London:20260821T235959
DTSTAMP:20260423T120042
CREATED:20260422T130910Z
LAST-MODIFIED:20260422T131655Z
UID:10004024-1787270400-1787356799@worcesterfestival.co.uk
SUMMARY:Family Prize Quiz Trail
DESCRIPTION:Download your form below (available from 17th August) or pop to the Tourist Information Centre or The Pod\, Friary Walk (formally Crowngate) and follow the instructions to be taken on a tour around Worcester. The walk starts and finishes at the Guildhall. The walk is just a little more than a mile. \nAnswer the questions as you go and when you have finished you can 1) Hand it in at the Tourist Information Office (if open) OR  2) Email it to marketing@worcesterfestival.co.uk. The first entry out of the hat will win a special Worcester Festival Prize!
URL:https://worcesterfestival.co.uk/event/family-prize-quiz-trail/2026-08-21/
LOCATION:The Pod\, Friary Walk/ Worcester TIC /Worcester Festival Website
CATEGORIES:Competition,Family,Free,Trails
ATTACH;FMTTYPE=image/png:https://worcesterfestival.co.uk/wp-content/uploads/2025/07/Untitled-design-1.png
END:VEVENT
BEGIN:VEVENT
DTSTART;TZID=Europe/London:20260821T000000
DTEND;TZID=Europe/London:20260821T235959
DTSTAMP:20260423T120042
CREATED:20260422T131557Z
LAST-MODIFIED:20260422T131557Z
UID:10004035-1787270400-1787356799@worcesterfestival.co.uk
SUMMARY:Friary & Chapel Walk Percy Trail
DESCRIPTION:Percy’s all over the shop! Throughout the Festival\, find Percy the Peacock’s cheeky face in 20 shops in Chapel & Friary Walk Shopping Centre (formally Crowngate) to be in with a chance of winning a special Worcester Festival prize!  Even better – it’s completely free to enter! Download your form below (available from the 17th August) or pop to the Tourist Information Centre or the Pod in Friary Walk and when you have finished you can  1)  Hand it in at the Tourist Information Office (if open)  OR  2)  Email it to marketing@worcesterfestival.co.uk. \n 
URL:https://worcesterfestival.co.uk/event/friary-chapel-walk-percy-trail/2026-08-21/
LOCATION:The Pod\, Friary Walk/ Worcester TIC /Worcester Festival Website
CATEGORIES:Competition,Family,Free,Trails
ATTACH;FMTTYPE=image/png:https://worcesterfestival.co.uk/wp-content/uploads/2025/07/Untitled-design-3.png
END:VEVENT
BEGIN:VEVENT
DTSTART;TZID=Europe/London:20260821T000000
DTEND;TZID=Europe/London:20260821T235959
DTSTAMP:20260423T120042
CREATED:20260422T132837Z
LAST-MODIFIED:20260422T132837Z
UID:10004046-1787270400-1787356799@worcesterfestival.co.uk
SUMMARY:Worcester Festival Wildlife Photography Competition
DESCRIPTION:Take a photo in and around Worcester during the Festival and email it to marketing@worcesterfestival.co.uk with your name and phone number. \nSimple as that!  A winner and 2 runners up will be chosen. \nThe photograph must be taken between the 21st and 31st August. You cannot be a professional photographer. By entering\, you automatically give us permission for your photograph(s) to be displayed on The Worcester Festival website\, social media and in The Worcester News. The photo must be of a wild bird\, animal or insect\, not a pet or domestic animal. You can enter a maximum of two photographs.  \n Photo by last years winner: Natalie Kelly
URL:https://worcesterfestival.co.uk/event/worcester-festival-wildlife-photography-competition/2026-08-21/
LOCATION:Worcester Festival Website
CATEGORIES:Competition,Family,Free
ATTACH;FMTTYPE=image/png:https://worcesterfestival.co.uk/wp-content/uploads/2026/04/Swan-resize.png
END:VEVENT
BEGIN:VEVENT
DTSTART;TZID=Europe/London:20260821T000000
DTEND;TZID=Europe/London:20260821T235959
DTSTAMP:20260423T120042
CREATED:20260422T133903Z
LAST-MODIFIED:20260422T133903Z
UID:10004057-1787270400-1787356799@worcesterfestival.co.uk
SUMMARY:Pet Photography Competition
DESCRIPTION:Snap a picture of your pooch\, kitten\, hamster\, lizard\, rabbit\, or other domestic animal and email it to marketing@worcesterfestival.co.uk. This competition will be judged in 3 categories 1. Cutest Cat 2. Cutest Dog and 3. Cutest pet (not a cat or dog)! By entering\, you are giving automatically giving us permission to display entries on the Festival website\, social media pages and in the Worcester News. \nPhoto of Bow the dog by Jennifer Hughes last years winner of cutest dog
URL:https://worcesterfestival.co.uk/event/pet-photography-competition/2026-08-21/
LOCATION:Worcester Festival Website
CATEGORIES:Competition,Family,Free
ATTACH;FMTTYPE=image/png:https://worcesterfestival.co.uk/wp-content/uploads/2026/04/Bow-resized.png
END:VEVENT
BEGIN:VEVENT
DTSTART;TZID=Europe/London:20260821T000000
DTEND;TZID=Europe/London:20260821T235959
DTSTAMP:20260423T120042
CREATED:20260422T135651Z
LAST-MODIFIED:20260422T135651Z
UID:10004068-1787270400-1787356799@worcesterfestival.co.uk
SUMMARY:Worcester Festival Litter Pick
DESCRIPTION:On any day of this year’s Festival\, have a family litter pick-up in your area. Take a photo and email it to marketing@worcesterfestival.co.uk and be in with a chance of winning a special Worcester Festival prize. 
URL:https://worcesterfestival.co.uk/event/worcester-festival-litter-pick/2026-08-21/
LOCATION:Worcester City Centre
CATEGORIES:Community,Competition,Family,Free
ATTACH;FMTTYPE=image/png:https://worcesterfestival.co.uk/wp-content/uploads/2025/07/Untitled-design-7.png
END:VEVENT
BEGIN:VEVENT
DTSTART;TZID=Europe/London:20260821T000000
DTEND;TZID=Europe/London:20260821T235959
DTSTAMP:20260423T120042
CREATED:20260422T140935Z
LAST-MODIFIED:20260422T140935Z
UID:10004079-1787270400-1787356799@worcesterfestival.co.uk
SUMMARY:Reindeer Court Percy Trail
DESCRIPTION:Percy’s got himself all over Worcester this year\, throughout the Festival\, see if you can find Percy the Peacock’s cheeky face in 10 shops windows in Reindeer Court to be in with a chance of winning a special Worcester Festival prize!  Even better – it’s completely free to enter! Download your form below (avaliable from the 17th Aug) or pop to the Tourist Information Centre or the Pod in Friary Walk and when you have finished you can  1)  Hand it in at the Tourist Information Office (if open)  OR  2)  Email it to marketing@worcesterfestival.co.uk. \n 
URL:https://worcesterfestival.co.uk/event/reindeer-court-percy-trail/2026-08-21/
LOCATION:Reindeer Court\, WR1 2DS
CATEGORIES:Competition,Family,Free,Trails
ATTACH;FMTTYPE=image/png:https://worcesterfestival.co.uk/wp-content/uploads/2025/07/Untitled-design-2.png
END:VEVENT
END:VCALENDAR