BEGIN:VCALENDAR
VERSION:2.0
PRODID:-//Worcester Festival - ECPv6.15.20//NONSGML v1.0//EN
CALSCALE:GREGORIAN
METHOD:PUBLISH
X-ORIGINAL-URL:https://worcesterfestival.co.uk
X-WR-CALDESC:Events for Worcester Festival
REFRESH-INTERVAL;VALUE=DURATION:PT1H
X-Robots-Tag:noindex
X-PUBLISHED-TTL:PT1H
BEGIN:VTIMEZONE
TZID:Europe/London
BEGIN:DAYLIGHT
TZOFFSETFROM:+0000
TZOFFSETTO:+0100
TZNAME:BST
DTSTART:20250330T010000
END:DAYLIGHT
BEGIN:STANDARD
TZOFFSETFROM:+0100
TZOFFSETTO:+0000
TZNAME:GMT
DTSTART:20251026T010000
END:STANDARD
BEGIN:DAYLIGHT
TZOFFSETFROM:+0000
TZOFFSETTO:+0100
TZNAME:BST
DTSTART:20260329T010000
END:DAYLIGHT
BEGIN:STANDARD
TZOFFSETFROM:+0100
TZOFFSETTO:+0000
TZNAME:GMT
DTSTART:20261025T010000
END:STANDARD
BEGIN:DAYLIGHT
TZOFFSETFROM:+0000
TZOFFSETTO:+0100
TZNAME:BST
DTSTART:20270328T010000
END:DAYLIGHT
BEGIN:STANDARD
TZOFFSETFROM:+0100
TZOFFSETTO:+0000
TZNAME:GMT
DTSTART:20271031T010000
END:STANDARD
END:VTIMEZONE
BEGIN:VEVENT
DTSTART;TZID=Europe/London:20260831T000000
DTEND;TZID=Europe/London:20260831T235959
DTSTAMP:20260425T144611
CREATED:20260422T135651Z
LAST-MODIFIED:20260422T135651Z
UID:10004078-1788134400-1788220799@worcesterfestival.co.uk
SUMMARY:Worcester Festival Litter Pick
DESCRIPTION:On any day of this year’s Festival\, have a family litter pick-up in your area. Take a photo and email it to marketing@worcesterfestival.co.uk and be in with a chance of winning a special Worcester Festival prize. 
URL:https://worcesterfestival.co.uk/event/worcester-festival-litter-pick/2026-08-31/
LOCATION:Worcester City Centre
CATEGORIES:Community,Competition,Family,Free
ATTACH;FMTTYPE=image/png:https://worcesterfestival.co.uk/wp-content/uploads/2025/07/Untitled-design-7.png
END:VEVENT
BEGIN:VEVENT
DTSTART;TZID=Europe/London:20260831T000000
DTEND;TZID=Europe/London:20260831T235959
DTSTAMP:20260425T144611
CREATED:20260422T140935Z
LAST-MODIFIED:20260422T140935Z
UID:10004089-1788134400-1788220799@worcesterfestival.co.uk
SUMMARY:Reindeer Court Percy Trail
DESCRIPTION:Percy’s got himself all over Worcester this year\, throughout the Festival\, see if you can find Percy the Peacock’s cheeky face in 10 shops windows in Reindeer Court to be in with a chance of winning a special Worcester Festival prize!  Even better – it’s completely free to enter! Download your form below (avaliable from the 17th Aug) or pop to the Tourist Information Centre or the Pod in Friary Walk and when you have finished you can  1)  Hand it in at the Tourist Information Office (if open)  OR  2)  Email it to marketing@worcesterfestival.co.uk. \n 
URL:https://worcesterfestival.co.uk/event/reindeer-court-percy-trail/2026-08-31/
LOCATION:Reindeer Court\, WR1 2DS
CATEGORIES:Competition,Family,Free,Trails
ATTACH;FMTTYPE=image/png:https://worcesterfestival.co.uk/wp-content/uploads/2025/07/Untitled-design-2.png
END:VEVENT
END:VCALENDAR