BEGIN:VCALENDAR
VERSION:2.0
PRODID:-//Worcester Festival - ECPv6.15.20//NONSGML v1.0//EN
CALSCALE:GREGORIAN
METHOD:PUBLISH
X-ORIGINAL-URL:https://worcesterfestival.co.uk
X-WR-CALDESC:Events for Worcester Festival
REFRESH-INTERVAL;VALUE=DURATION:PT1H
X-Robots-Tag:noindex
X-PUBLISHED-TTL:PT1H
BEGIN:VTIMEZONE
TZID:Europe/London
BEGIN:DAYLIGHT
TZOFFSETFROM:+0000
TZOFFSETTO:+0100
TZNAME:BST
DTSTART:20250330T010000
END:DAYLIGHT
BEGIN:STANDARD
TZOFFSETFROM:+0100
TZOFFSETTO:+0000
TZNAME:GMT
DTSTART:20251026T010000
END:STANDARD
BEGIN:DAYLIGHT
TZOFFSETFROM:+0000
TZOFFSETTO:+0100
TZNAME:BST
DTSTART:20260329T010000
END:DAYLIGHT
BEGIN:STANDARD
TZOFFSETFROM:+0100
TZOFFSETTO:+0000
TZNAME:GMT
DTSTART:20261025T010000
END:STANDARD
BEGIN:DAYLIGHT
TZOFFSETFROM:+0000
TZOFFSETTO:+0100
TZNAME:BST
DTSTART:20270328T010000
END:DAYLIGHT
BEGIN:STANDARD
TZOFFSETFROM:+0100
TZOFFSETTO:+0000
TZNAME:GMT
DTSTART:20271031T010000
END:STANDARD
END:VTIMEZONE
BEGIN:VEVENT
DTSTART;TZID=Europe/London:20260821T000000
DTEND;TZID=Europe/London:20260821T235959
DTSTAMP:20260423T090348
CREATED:20260422T143408Z
LAST-MODIFIED:20260422T143408Z
UID:10004097-1787270400-1787356799@worcesterfestival.co.uk
SUMMARY:Percy the Peacock!
DESCRIPTION:Look out for Percy the Peacock every day of the Festival out and about on his travels\, especially at weekends. Percy absolutely loves posing for photographs\, so be sure to have your picture taken with him\, whatever your age\, and share your favourite #percypics with us on Facebook\, X\, and Instagram! He’ll be giving out Festival stickers and posing for photos in the city centre\, weather permitting. (Peacocks don’t like the rain!)
URL:https://worcesterfestival.co.uk/event/percy-the-peacock/2026-08-21/
LOCATION:Worcester City Centre
CATEGORIES:Family,Free,Suitable for Children
ATTACH;FMTTYPE=image/png:https://worcesterfestival.co.uk/wp-content/uploads/2025/07/Untitled-design-9.png
END:VEVENT
BEGIN:VEVENT
DTSTART;TZID=Europe/London:20260821T093000
DTEND;TZID=Europe/London:20260821T170000
DTSTAMP:20260423T090348
CREATED:20260422T145222Z
LAST-MODIFIED:20260422T145222Z
UID:10004119-1787304600-1787331600@worcesterfestival.co.uk
SUMMARY:Worcester Passport
DESCRIPTION:Collect your free passport from the Tourist Information Centre and start exploring Worcester! Take a tour around Worcester’s iconic buildings and complete your passport. Collect a stamp at each venue and work your way towards earning the History Hound of Worcester Badge!
URL:https://worcesterfestival.co.uk/event/worcester-passport/2026-08-21/
LOCATION:Tourist Information Centre\, The Guildhall\, High St\,\, Worcester\, WR1 2EY
CATEGORIES:Family,Free,Suitable for Children,Trails
ATTACH;FMTTYPE=image/png:https://worcesterfestival.co.uk/wp-content/uploads/2025/07/Untitled-design-36.png
END:VEVENT
BEGIN:VEVENT
DTSTART;TZID=Europe/London:20260821T110000
DTEND;TZID=Europe/London:20260821T150000
DTSTAMP:20260423T090348
CREATED:20260422T144125Z
LAST-MODIFIED:20260422T144125Z
UID:10004108-1787310000-1787324400@worcesterfestival.co.uk
SUMMARY:Worcester Festival Tombola!
DESCRIPTION:£1 for 4 tickets \nCome and try your luck at the Worcester Festival Tombola! Pull out any ticket with a 5 or 0 at the end and you will win a prize! In traditional tombola style there are some lovely prizes and some… useful ones! All proceeds raised from this event will go to the Worcester Festival.
URL:https://worcesterfestival.co.uk/event/worcester-festival-tombola/2026-08-21/
LOCATION:The Pod\, Friary Walk\, Friary Walk\, Worcester\, WR1 3LE\, United Kingdom
CATEGORIES:Family,Suitable for Children
ATTACH;FMTTYPE=image/png:https://worcesterfestival.co.uk/wp-content/uploads/2025/07/Untitled-design-10.png
END:VEVENT
BEGIN:VEVENT
DTSTART;TZID=Europe/London:20260821T113000
DTEND;TZID=Europe/London:20260821T143000
DTSTAMP:20260423T090348
CREATED:20260422T141602Z
LAST-MODIFIED:20260422T141602Z
UID:10004090-1787311800-1787322600@worcesterfestival.co.uk
SUMMARY:Chapel Walk Live Stage!
DESCRIPTION:Come and see some fantastic free live music! \nToday’s Line up is \nColin & Friends                                              11.30am\nSongbird Ukulele Club                                12.30pm\nWorcester Ukulele Club                             1.30pm
URL:https://worcesterfestival.co.uk/event/chapel-walk-live-stage/
LOCATION:Chapel Walk\, formally Crowngate\, Friary Walk\, Worcester\, WR1 3LE\, United Kingdom
CATEGORIES:Family,Free,Live Music,Suitable for Children
ATTACH;FMTTYPE=image/png:https://worcesterfestival.co.uk/wp-content/uploads/2025/07/Untitled-design-8.png
END:VEVENT
BEGIN:VEVENT
DTSTART;TZID=Europe/London:20260822T000000
DTEND;TZID=Europe/London:20260822T235959
DTSTAMP:20260423T090348
CREATED:20260422T143408Z
LAST-MODIFIED:20260422T143408Z
UID:10004098-1787356800-1787443199@worcesterfestival.co.uk
SUMMARY:Percy the Peacock!
DESCRIPTION:Look out for Percy the Peacock every day of the Festival out and about on his travels\, especially at weekends. Percy absolutely loves posing for photographs\, so be sure to have your picture taken with him\, whatever your age\, and share your favourite #percypics with us on Facebook\, X\, and Instagram! He’ll be giving out Festival stickers and posing for photos in the city centre\, weather permitting. (Peacocks don’t like the rain!)
URL:https://worcesterfestival.co.uk/event/percy-the-peacock/2026-08-22/
LOCATION:Worcester City Centre
CATEGORIES:Family,Free,Suitable for Children
ATTACH;FMTTYPE=image/png:https://worcesterfestival.co.uk/wp-content/uploads/2025/07/Untitled-design-9.png
END:VEVENT
BEGIN:VEVENT
DTSTART;TZID=Europe/London:20260822T100000
DTEND;TZID=Europe/London:20260822T170000
DTSTAMP:20260423T090348
CREATED:20260422T145350Z
LAST-MODIFIED:20260422T145350Z
UID:10004133-1787392800-1787418000@worcesterfestival.co.uk
SUMMARY:Worcester Passport
DESCRIPTION:Collect your free passport from the Tourist Information Centre and start exploring Worcester! Take a tour around Worcester’s iconic buildings and complete your passport. Collect a stamp at each venue and work your way towards earning the History Hound of Worcester Badge!
URL:https://worcesterfestival.co.uk/event/worcester-passport-2/2026-08-22/
LOCATION:Tourist Information Centre\, The Guildhall\, High St\,\, Worcester\, WR1 2EY
CATEGORIES:Family,Free,Suitable for Children,Trails
ATTACH;FMTTYPE=image/png:https://worcesterfestival.co.uk/wp-content/uploads/2025/07/Untitled-design-36.png
END:VEVENT
BEGIN:VEVENT
DTSTART;TZID=Europe/London:20260822T110000
DTEND;TZID=Europe/London:20260822T150000
DTSTAMP:20260423T090348
CREATED:20260422T144125Z
LAST-MODIFIED:20260422T144125Z
UID:10004109-1787396400-1787410800@worcesterfestival.co.uk
SUMMARY:Worcester Festival Tombola!
DESCRIPTION:£1 for 4 tickets \nCome and try your luck at the Worcester Festival Tombola! Pull out any ticket with a 5 or 0 at the end and you will win a prize! In traditional tombola style there are some lovely prizes and some… useful ones! All proceeds raised from this event will go to the Worcester Festival.
URL:https://worcesterfestival.co.uk/event/worcester-festival-tombola/2026-08-22/
LOCATION:The Pod\, Friary Walk\, Friary Walk\, Worcester\, WR1 3LE\, United Kingdom
CATEGORIES:Family,Suitable for Children
ATTACH;FMTTYPE=image/png:https://worcesterfestival.co.uk/wp-content/uploads/2025/07/Untitled-design-10.png
END:VEVENT
BEGIN:VEVENT
DTSTART;TZID=Europe/London:20260822T110000
DTEND;TZID=Europe/London:20260822T153000
DTSTAMP:20260423T090348
CREATED:20260422T141835Z
LAST-MODIFIED:20260422T141835Z
UID:10004091-1787396400-1787412600@worcesterfestival.co.uk
SUMMARY:Chapel Walk Live Stage!
DESCRIPTION:Come and see some fantastic free live music! \nToday’s Line up is \nIan Lockyer                                                                    11am\nPhoenix Choir                                                               12pm\nSongbird Ukulele Band                                             12.30pm\nCherry Orchard Community Singers                   2pm
URL:https://worcesterfestival.co.uk/event/chapel-walk-live-stage-2/
LOCATION:Chapel Walk\, formally Crowngate\, Friary Walk\, Worcester\, WR1 3LE\, United Kingdom
CATEGORIES:Family,Free,Live Music,Suitable for Children
ATTACH;FMTTYPE=image/png:https://worcesterfestival.co.uk/wp-content/uploads/2025/07/Untitled-design-8.png
END:VEVENT
BEGIN:VEVENT
DTSTART;TZID=Europe/London:20260823T000000
DTEND;TZID=Europe/London:20260823T235959
DTSTAMP:20260423T090348
CREATED:20260422T143408Z
LAST-MODIFIED:20260422T143408Z
UID:10004099-1787443200-1787529599@worcesterfestival.co.uk
SUMMARY:Percy the Peacock!
DESCRIPTION:Look out for Percy the Peacock every day of the Festival out and about on his travels\, especially at weekends. Percy absolutely loves posing for photographs\, so be sure to have your picture taken with him\, whatever your age\, and share your favourite #percypics with us on Facebook\, X\, and Instagram! He’ll be giving out Festival stickers and posing for photos in the city centre\, weather permitting. (Peacocks don’t like the rain!)
URL:https://worcesterfestival.co.uk/event/percy-the-peacock/2026-08-23/
LOCATION:Worcester City Centre
CATEGORIES:Family,Free,Suitable for Children
ATTACH;FMTTYPE=image/png:https://worcesterfestival.co.uk/wp-content/uploads/2025/07/Untitled-design-9.png
END:VEVENT
BEGIN:VEVENT
DTSTART;TZID=Europe/London:20260823T110000
DTEND;TZID=Europe/London:20260823T150000
DTSTAMP:20260423T090348
CREATED:20260422T144125Z
LAST-MODIFIED:20260422T144125Z
UID:10004110-1787482800-1787497200@worcesterfestival.co.uk
SUMMARY:Worcester Festival Tombola!
DESCRIPTION:£1 for 4 tickets \nCome and try your luck at the Worcester Festival Tombola! Pull out any ticket with a 5 or 0 at the end and you will win a prize! In traditional tombola style there are some lovely prizes and some… useful ones! All proceeds raised from this event will go to the Worcester Festival.
URL:https://worcesterfestival.co.uk/event/worcester-festival-tombola/2026-08-23/
LOCATION:The Pod\, Friary Walk\, Friary Walk\, Worcester\, WR1 3LE\, United Kingdom
CATEGORIES:Family,Suitable for Children
ATTACH;FMTTYPE=image/png:https://worcesterfestival.co.uk/wp-content/uploads/2025/07/Untitled-design-10.png
END:VEVENT
BEGIN:VEVENT
DTSTART;TZID=Europe/London:20260824T000000
DTEND;TZID=Europe/London:20260824T235959
DTSTAMP:20260423T090348
CREATED:20260422T143408Z
LAST-MODIFIED:20260422T143408Z
UID:10004100-1787529600-1787615999@worcesterfestival.co.uk
SUMMARY:Percy the Peacock!
DESCRIPTION:Look out for Percy the Peacock every day of the Festival out and about on his travels\, especially at weekends. Percy absolutely loves posing for photographs\, so be sure to have your picture taken with him\, whatever your age\, and share your favourite #percypics with us on Facebook\, X\, and Instagram! He’ll be giving out Festival stickers and posing for photos in the city centre\, weather permitting. (Peacocks don’t like the rain!)
URL:https://worcesterfestival.co.uk/event/percy-the-peacock/2026-08-24/
LOCATION:Worcester City Centre
CATEGORIES:Family,Free,Suitable for Children
ATTACH;FMTTYPE=image/png:https://worcesterfestival.co.uk/wp-content/uploads/2025/07/Untitled-design-9.png
END:VEVENT
BEGIN:VEVENT
DTSTART;TZID=Europe/London:20260824T093000
DTEND;TZID=Europe/London:20260824T170000
DTSTAMP:20260423T090348
CREATED:20260422T145222Z
LAST-MODIFIED:20260422T145222Z
UID:10004120-1787563800-1787590800@worcesterfestival.co.uk
SUMMARY:Worcester Passport
DESCRIPTION:Collect your free passport from the Tourist Information Centre and start exploring Worcester! Take a tour around Worcester’s iconic buildings and complete your passport. Collect a stamp at each venue and work your way towards earning the History Hound of Worcester Badge!
URL:https://worcesterfestival.co.uk/event/worcester-passport/2026-08-24/
LOCATION:Tourist Information Centre\, The Guildhall\, High St\,\, Worcester\, WR1 2EY
CATEGORIES:Family,Free,Suitable for Children,Trails
ATTACH;FMTTYPE=image/png:https://worcesterfestival.co.uk/wp-content/uploads/2025/07/Untitled-design-36.png
END:VEVENT
BEGIN:VEVENT
DTSTART;TZID=Europe/London:20260824T110000
DTEND;TZID=Europe/London:20260824T150000
DTSTAMP:20260423T090348
CREATED:20260422T144125Z
LAST-MODIFIED:20260422T144125Z
UID:10004111-1787569200-1787583600@worcesterfestival.co.uk
SUMMARY:Worcester Festival Tombola!
DESCRIPTION:£1 for 4 tickets \nCome and try your luck at the Worcester Festival Tombola! Pull out any ticket with a 5 or 0 at the end and you will win a prize! In traditional tombola style there are some lovely prizes and some… useful ones! All proceeds raised from this event will go to the Worcester Festival.
URL:https://worcesterfestival.co.uk/event/worcester-festival-tombola/2026-08-24/
LOCATION:The Pod\, Friary Walk\, Friary Walk\, Worcester\, WR1 3LE\, United Kingdom
CATEGORIES:Family,Suitable for Children
ATTACH;FMTTYPE=image/png:https://worcesterfestival.co.uk/wp-content/uploads/2025/07/Untitled-design-10.png
END:VEVENT
BEGIN:VEVENT
DTSTART;TZID=Europe/London:20260825T000000
DTEND;TZID=Europe/London:20260825T235959
DTSTAMP:20260423T090348
CREATED:20260422T143408Z
LAST-MODIFIED:20260422T143408Z
UID:10004101-1787616000-1787702399@worcesterfestival.co.uk
SUMMARY:Percy the Peacock!
DESCRIPTION:Look out for Percy the Peacock every day of the Festival out and about on his travels\, especially at weekends. Percy absolutely loves posing for photographs\, so be sure to have your picture taken with him\, whatever your age\, and share your favourite #percypics with us on Facebook\, X\, and Instagram! He’ll be giving out Festival stickers and posing for photos in the city centre\, weather permitting. (Peacocks don’t like the rain!)
URL:https://worcesterfestival.co.uk/event/percy-the-peacock/2026-08-25/
LOCATION:Worcester City Centre
CATEGORIES:Family,Free,Suitable for Children
ATTACH;FMTTYPE=image/png:https://worcesterfestival.co.uk/wp-content/uploads/2025/07/Untitled-design-9.png
END:VEVENT
BEGIN:VEVENT
DTSTART;TZID=Europe/London:20260825T093000
DTEND;TZID=Europe/London:20260825T170000
DTSTAMP:20260423T090348
CREATED:20260422T145222Z
LAST-MODIFIED:20260422T145222Z
UID:10004121-1787650200-1787677200@worcesterfestival.co.uk
SUMMARY:Worcester Passport
DESCRIPTION:Collect your free passport from the Tourist Information Centre and start exploring Worcester! Take a tour around Worcester’s iconic buildings and complete your passport. Collect a stamp at each venue and work your way towards earning the History Hound of Worcester Badge!
URL:https://worcesterfestival.co.uk/event/worcester-passport/2026-08-25/
LOCATION:Tourist Information Centre\, The Guildhall\, High St\,\, Worcester\, WR1 2EY
CATEGORIES:Family,Free,Suitable for Children,Trails
ATTACH;FMTTYPE=image/png:https://worcesterfestival.co.uk/wp-content/uploads/2025/07/Untitled-design-36.png
END:VEVENT
BEGIN:VEVENT
DTSTART;TZID=Europe/London:20260825T110000
DTEND;TZID=Europe/London:20260825T150000
DTSTAMP:20260423T090348
CREATED:20260422T144125Z
LAST-MODIFIED:20260422T144125Z
UID:10004112-1787655600-1787670000@worcesterfestival.co.uk
SUMMARY:Worcester Festival Tombola!
DESCRIPTION:£1 for 4 tickets \nCome and try your luck at the Worcester Festival Tombola! Pull out any ticket with a 5 or 0 at the end and you will win a prize! In traditional tombola style there are some lovely prizes and some… useful ones! All proceeds raised from this event will go to the Worcester Festival.
URL:https://worcesterfestival.co.uk/event/worcester-festival-tombola/2026-08-25/
LOCATION:The Pod\, Friary Walk\, Friary Walk\, Worcester\, WR1 3LE\, United Kingdom
CATEGORIES:Family,Suitable for Children
ATTACH;FMTTYPE=image/png:https://worcesterfestival.co.uk/wp-content/uploads/2025/07/Untitled-design-10.png
END:VEVENT
BEGIN:VEVENT
DTSTART;TZID=Europe/London:20260826T000000
DTEND;TZID=Europe/London:20260826T235959
DTSTAMP:20260423T090348
CREATED:20260422T143408Z
LAST-MODIFIED:20260422T143408Z
UID:10004102-1787702400-1787788799@worcesterfestival.co.uk
SUMMARY:Percy the Peacock!
DESCRIPTION:Look out for Percy the Peacock every day of the Festival out and about on his travels\, especially at weekends. Percy absolutely loves posing for photographs\, so be sure to have your picture taken with him\, whatever your age\, and share your favourite #percypics with us on Facebook\, X\, and Instagram! He’ll be giving out Festival stickers and posing for photos in the city centre\, weather permitting. (Peacocks don’t like the rain!)
URL:https://worcesterfestival.co.uk/event/percy-the-peacock/2026-08-26/
LOCATION:Worcester City Centre
CATEGORIES:Family,Free,Suitable for Children
ATTACH;FMTTYPE=image/png:https://worcesterfestival.co.uk/wp-content/uploads/2025/07/Untitled-design-9.png
END:VEVENT
BEGIN:VEVENT
DTSTART;TZID=Europe/London:20260826T093000
DTEND;TZID=Europe/London:20260826T170000
DTSTAMP:20260423T090348
CREATED:20260422T145222Z
LAST-MODIFIED:20260422T145222Z
UID:10004122-1787736600-1787763600@worcesterfestival.co.uk
SUMMARY:Worcester Passport
DESCRIPTION:Collect your free passport from the Tourist Information Centre and start exploring Worcester! Take a tour around Worcester’s iconic buildings and complete your passport. Collect a stamp at each venue and work your way towards earning the History Hound of Worcester Badge!
URL:https://worcesterfestival.co.uk/event/worcester-passport/2026-08-26/
LOCATION:Tourist Information Centre\, The Guildhall\, High St\,\, Worcester\, WR1 2EY
CATEGORIES:Family,Free,Suitable for Children,Trails
ATTACH;FMTTYPE=image/png:https://worcesterfestival.co.uk/wp-content/uploads/2025/07/Untitled-design-36.png
END:VEVENT
BEGIN:VEVENT
DTSTART;TZID=Europe/London:20260826T110000
DTEND;TZID=Europe/London:20260826T150000
DTSTAMP:20260423T090348
CREATED:20260422T144125Z
LAST-MODIFIED:20260422T144125Z
UID:10004113-1787742000-1787756400@worcesterfestival.co.uk
SUMMARY:Worcester Festival Tombola!
DESCRIPTION:£1 for 4 tickets \nCome and try your luck at the Worcester Festival Tombola! Pull out any ticket with a 5 or 0 at the end and you will win a prize! In traditional tombola style there are some lovely prizes and some… useful ones! All proceeds raised from this event will go to the Worcester Festival.
URL:https://worcesterfestival.co.uk/event/worcester-festival-tombola/2026-08-26/
LOCATION:The Pod\, Friary Walk\, Friary Walk\, Worcester\, WR1 3LE\, United Kingdom
CATEGORIES:Family,Suitable for Children
ATTACH;FMTTYPE=image/png:https://worcesterfestival.co.uk/wp-content/uploads/2025/07/Untitled-design-10.png
END:VEVENT
BEGIN:VEVENT
DTSTART;TZID=Europe/London:20260826T133000
DTEND;TZID=Europe/London:20260826T143000
DTSTAMP:20260423T090348
CREATED:20260422T141954Z
LAST-MODIFIED:20260422T141954Z
UID:10004092-1787751000-1787754600@worcesterfestival.co.uk
SUMMARY:Chapel Walk Live Stage!
DESCRIPTION:Come and see some fantastic free live music! \nToday’s Line up is \nWorcester Ukulele Club                         1.30pm
URL:https://worcesterfestival.co.uk/event/chapel-walk-live-stage-3/
LOCATION:Chapel Walk\, formally Crowngate\, Friary Walk\, Worcester\, WR1 3LE\, United Kingdom
CATEGORIES:Family,Free,Live Music,Suitable for Children
ATTACH;FMTTYPE=image/png:https://worcesterfestival.co.uk/wp-content/uploads/2025/07/Untitled-design-8.png
END:VEVENT
BEGIN:VEVENT
DTSTART;TZID=Europe/London:20260827T000000
DTEND;TZID=Europe/London:20260827T235959
DTSTAMP:20260423T090348
CREATED:20260422T143408Z
LAST-MODIFIED:20260422T143408Z
UID:10004103-1787788800-1787875199@worcesterfestival.co.uk
SUMMARY:Percy the Peacock!
DESCRIPTION:Look out for Percy the Peacock every day of the Festival out and about on his travels\, especially at weekends. Percy absolutely loves posing for photographs\, so be sure to have your picture taken with him\, whatever your age\, and share your favourite #percypics with us on Facebook\, X\, and Instagram! He’ll be giving out Festival stickers and posing for photos in the city centre\, weather permitting. (Peacocks don’t like the rain!)
URL:https://worcesterfestival.co.uk/event/percy-the-peacock/2026-08-27/
LOCATION:Worcester City Centre
CATEGORIES:Family,Free,Suitable for Children
ATTACH;FMTTYPE=image/png:https://worcesterfestival.co.uk/wp-content/uploads/2025/07/Untitled-design-9.png
END:VEVENT
BEGIN:VEVENT
DTSTART;TZID=Europe/London:20260827T093000
DTEND;TZID=Europe/London:20260827T170000
DTSTAMP:20260423T090348
CREATED:20260422T145222Z
LAST-MODIFIED:20260422T145222Z
UID:10004123-1787823000-1787850000@worcesterfestival.co.uk
SUMMARY:Worcester Passport
DESCRIPTION:Collect your free passport from the Tourist Information Centre and start exploring Worcester! Take a tour around Worcester’s iconic buildings and complete your passport. Collect a stamp at each venue and work your way towards earning the History Hound of Worcester Badge!
URL:https://worcesterfestival.co.uk/event/worcester-passport/2026-08-27/
LOCATION:Tourist Information Centre\, The Guildhall\, High St\,\, Worcester\, WR1 2EY
CATEGORIES:Family,Free,Suitable for Children,Trails
ATTACH;FMTTYPE=image/png:https://worcesterfestival.co.uk/wp-content/uploads/2025/07/Untitled-design-36.png
END:VEVENT
BEGIN:VEVENT
DTSTART;TZID=Europe/London:20260827T110000
DTEND;TZID=Europe/London:20260827T130000
DTSTAMP:20260423T090348
CREATED:20260422T142207Z
LAST-MODIFIED:20260422T142207Z
UID:10004093-1787828400-1787835600@worcesterfestival.co.uk
SUMMARY:Chapel Walk Live Stage!
DESCRIPTION:Come and see some fantastic free live music! \nToday’s Line up is \nIan Lockyer                                               11am\nSongbird Ukulele Band                        12am
URL:https://worcesterfestival.co.uk/event/chapel-walk-live-stage-4/
LOCATION:Chapel Walk\, formally Crowngate\, Friary Walk\, Worcester\, WR1 3LE\, United Kingdom
CATEGORIES:Family,Free,Live Music,Suitable for Children
ATTACH;FMTTYPE=image/png:https://worcesterfestival.co.uk/wp-content/uploads/2025/07/Untitled-design-8.png
END:VEVENT
BEGIN:VEVENT
DTSTART;TZID=Europe/London:20260827T110000
DTEND;TZID=Europe/London:20260827T150000
DTSTAMP:20260423T090348
CREATED:20260422T144125Z
LAST-MODIFIED:20260422T144125Z
UID:10004114-1787828400-1787842800@worcesterfestival.co.uk
SUMMARY:Worcester Festival Tombola!
DESCRIPTION:£1 for 4 tickets \nCome and try your luck at the Worcester Festival Tombola! Pull out any ticket with a 5 or 0 at the end and you will win a prize! In traditional tombola style there are some lovely prizes and some… useful ones! All proceeds raised from this event will go to the Worcester Festival.
URL:https://worcesterfestival.co.uk/event/worcester-festival-tombola/2026-08-27/
LOCATION:The Pod\, Friary Walk\, Friary Walk\, Worcester\, WR1 3LE\, United Kingdom
CATEGORIES:Family,Suitable for Children
ATTACH;FMTTYPE=image/png:https://worcesterfestival.co.uk/wp-content/uploads/2025/07/Untitled-design-10.png
END:VEVENT
BEGIN:VEVENT
DTSTART;TZID=Europe/London:20260828T000000
DTEND;TZID=Europe/London:20260828T235959
DTSTAMP:20260423T090348
CREATED:20260422T143408Z
LAST-MODIFIED:20260422T143408Z
UID:10004104-1787875200-1787961599@worcesterfestival.co.uk
SUMMARY:Percy the Peacock!
DESCRIPTION:Look out for Percy the Peacock every day of the Festival out and about on his travels\, especially at weekends. Percy absolutely loves posing for photographs\, so be sure to have your picture taken with him\, whatever your age\, and share your favourite #percypics with us on Facebook\, X\, and Instagram! He’ll be giving out Festival stickers and posing for photos in the city centre\, weather permitting. (Peacocks don’t like the rain!)
URL:https://worcesterfestival.co.uk/event/percy-the-peacock/2026-08-28/
LOCATION:Worcester City Centre
CATEGORIES:Family,Free,Suitable for Children
ATTACH;FMTTYPE=image/png:https://worcesterfestival.co.uk/wp-content/uploads/2025/07/Untitled-design-9.png
END:VEVENT
BEGIN:VEVENT
DTSTART;TZID=Europe/London:20260828T093000
DTEND;TZID=Europe/London:20260828T170000
DTSTAMP:20260423T090348
CREATED:20260422T145222Z
LAST-MODIFIED:20260422T145222Z
UID:10004124-1787909400-1787936400@worcesterfestival.co.uk
SUMMARY:Worcester Passport
DESCRIPTION:Collect your free passport from the Tourist Information Centre and start exploring Worcester! Take a tour around Worcester’s iconic buildings and complete your passport. Collect a stamp at each venue and work your way towards earning the History Hound of Worcester Badge!
URL:https://worcesterfestival.co.uk/event/worcester-passport/2026-08-28/
LOCATION:Tourist Information Centre\, The Guildhall\, High St\,\, Worcester\, WR1 2EY
CATEGORIES:Family,Free,Suitable for Children,Trails
ATTACH;FMTTYPE=image/png:https://worcesterfestival.co.uk/wp-content/uploads/2025/07/Untitled-design-36.png
END:VEVENT
BEGIN:VEVENT
DTSTART;TZID=Europe/London:20260828T110000
DTEND;TZID=Europe/London:20260828T133000
DTSTAMP:20260423T090348
CREATED:20260422T142338Z
LAST-MODIFIED:20260422T142338Z
UID:10004094-1787914800-1787923800@worcesterfestival.co.uk
SUMMARY:Chapel Walk Live Stage!
DESCRIPTION:Come and see some fantastic free live music! \nToday’s Line up is \nIan Lockyer                                             11am\nColin & Friends                                     11.30am\nSongbirds Ukulele Band                    12.30pm
URL:https://worcesterfestival.co.uk/event/chapel-walk-live-stage-5/
LOCATION:Chapel Walk\, formally Crowngate\, Friary Walk\, Worcester\, WR1 3LE\, United Kingdom
CATEGORIES:Family,Free,Live Music,Suitable for Children
ATTACH;FMTTYPE=image/png:https://worcesterfestival.co.uk/wp-content/uploads/2025/07/Untitled-design-8.png
END:VEVENT
BEGIN:VEVENT
DTSTART;TZID=Europe/London:20260828T110000
DTEND;TZID=Europe/London:20260828T150000
DTSTAMP:20260423T090348
CREATED:20260422T144125Z
LAST-MODIFIED:20260422T144125Z
UID:10004115-1787914800-1787929200@worcesterfestival.co.uk
SUMMARY:Worcester Festival Tombola!
DESCRIPTION:£1 for 4 tickets \nCome and try your luck at the Worcester Festival Tombola! Pull out any ticket with a 5 or 0 at the end and you will win a prize! In traditional tombola style there are some lovely prizes and some… useful ones! All proceeds raised from this event will go to the Worcester Festival.
URL:https://worcesterfestival.co.uk/event/worcester-festival-tombola/2026-08-28/
LOCATION:The Pod\, Friary Walk\, Friary Walk\, Worcester\, WR1 3LE\, United Kingdom
CATEGORIES:Family,Suitable for Children
ATTACH;FMTTYPE=image/png:https://worcesterfestival.co.uk/wp-content/uploads/2025/07/Untitled-design-10.png
END:VEVENT
BEGIN:VEVENT
DTSTART;TZID=Europe/London:20260829T000000
DTEND;TZID=Europe/London:20260829T235959
DTSTAMP:20260423T090348
CREATED:20260422T143408Z
LAST-MODIFIED:20260422T143408Z
UID:10004105-1787961600-1788047999@worcesterfestival.co.uk
SUMMARY:Percy the Peacock!
DESCRIPTION:Look out for Percy the Peacock every day of the Festival out and about on his travels\, especially at weekends. Percy absolutely loves posing for photographs\, so be sure to have your picture taken with him\, whatever your age\, and share your favourite #percypics with us on Facebook\, X\, and Instagram! He’ll be giving out Festival stickers and posing for photos in the city centre\, weather permitting. (Peacocks don’t like the rain!)
URL:https://worcesterfestival.co.uk/event/percy-the-peacock/2026-08-29/
LOCATION:Worcester City Centre
CATEGORIES:Family,Free,Suitable for Children
ATTACH;FMTTYPE=image/png:https://worcesterfestival.co.uk/wp-content/uploads/2025/07/Untitled-design-9.png
END:VEVENT
BEGIN:VEVENT
DTSTART;TZID=Europe/London:20260829T100000
DTEND;TZID=Europe/London:20260829T170000
DTSTAMP:20260423T090348
CREATED:20260422T145350Z
LAST-MODIFIED:20260422T145350Z
UID:10004134-1787997600-1788022800@worcesterfestival.co.uk
SUMMARY:Worcester Passport
DESCRIPTION:Collect your free passport from the Tourist Information Centre and start exploring Worcester! Take a tour around Worcester’s iconic buildings and complete your passport. Collect a stamp at each venue and work your way towards earning the History Hound of Worcester Badge!
URL:https://worcesterfestival.co.uk/event/worcester-passport-2/2026-08-29/
LOCATION:Tourist Information Centre\, The Guildhall\, High St\,\, Worcester\, WR1 2EY
CATEGORIES:Family,Free,Suitable for Children,Trails
ATTACH;FMTTYPE=image/png:https://worcesterfestival.co.uk/wp-content/uploads/2025/07/Untitled-design-36.png
END:VEVENT
END:VCALENDAR