BEGIN:VCALENDAR
VERSION:2.0
PRODID:-//Worcester Festival - ECPv6.15.20//NONSGML v1.0//EN
CALSCALE:GREGORIAN
METHOD:PUBLISH
X-WR-CALNAME:Worcester Festival
X-ORIGINAL-URL:https://worcesterfestival.co.uk
X-WR-CALDESC:Events for Worcester Festival
REFRESH-INTERVAL;VALUE=DURATION:PT1H
X-Robots-Tag:noindex
X-PUBLISHED-TTL:PT1H
BEGIN:VTIMEZONE
TZID:Europe/London
BEGIN:DAYLIGHT
TZOFFSETFROM:+0000
TZOFFSETTO:+0100
TZNAME:BST
DTSTART:20250330T010000
END:DAYLIGHT
BEGIN:STANDARD
TZOFFSETFROM:+0100
TZOFFSETTO:+0000
TZNAME:GMT
DTSTART:20251026T010000
END:STANDARD
BEGIN:DAYLIGHT
TZOFFSETFROM:+0000
TZOFFSETTO:+0100
TZNAME:BST
DTSTART:20260329T010000
END:DAYLIGHT
BEGIN:STANDARD
TZOFFSETFROM:+0100
TZOFFSETTO:+0000
TZNAME:GMT
DTSTART:20261025T010000
END:STANDARD
BEGIN:DAYLIGHT
TZOFFSETFROM:+0000
TZOFFSETTO:+0100
TZNAME:BST
DTSTART:20270328T010000
END:DAYLIGHT
BEGIN:STANDARD
TZOFFSETFROM:+0100
TZOFFSETTO:+0000
TZNAME:GMT
DTSTART:20271031T010000
END:STANDARD
END:VTIMEZONE
BEGIN:VEVENT
DTSTART;TZID=Europe/London:20260821T000000
DTEND;TZID=Europe/London:20260821T235959
DTSTAMP:20260423T074103
CREATED:20260422T125044Z
LAST-MODIFIED:20260422T125044Z
UID:10004013-1787270400-1787356799@worcesterfestival.co.uk
SUMMARY:Percy Peacock Colouring Competition
DESCRIPTION:Oh no – Percy’s all washed out and he needs you to colour him back in! Download a colour-me-in Percy form from below (available from 17th August) or grab one from the Tourist Information Centre or The Pod\, Friary Walk (formally Crowngate) and go as wild as you like putting him back to his full technicolour glory! Crayons\, paint\, feathers\, sparkles…anything goes! Then take a snap of your work of art and email it to marketing@worcesterfestival.co.uk or drop it in to the Tourist Information Centre or The POD\, Friary Walk. The entries will be judged in three different categories\, 2-5 year olds\, 6-9 year olds and 10 and over. The winners of each category will win a very special Worcester Festival prize!  Happy colouring!  By entering\, you automatically give us permission to display entries on The Worcester Festival’s website and social and printed media. Personal information such as child’s full name and age will be redacted from entries.
URL:https://worcesterfestival.co.uk/event/percy-peacock-colouring-competition/2026-08-21/
LOCATION:The Pod\, Friary Walk/ Worcester TIC /Worcester Festival Website
CATEGORIES:Competition,Family,Free,Get Creative
ATTACH;FMTTYPE=image/png:https://worcesterfestival.co.uk/wp-content/uploads/2025/07/Untitled-design-20.png
END:VEVENT
BEGIN:VEVENT
DTSTART;TZID=Europe/London:20260822T000000
DTEND;TZID=Europe/London:20260822T235959
DTSTAMP:20260423T074103
CREATED:20260422T125044Z
LAST-MODIFIED:20260422T125044Z
UID:10004014-1787356800-1787443199@worcesterfestival.co.uk
SUMMARY:Percy Peacock Colouring Competition
DESCRIPTION:Oh no – Percy’s all washed out and he needs you to colour him back in! Download a colour-me-in Percy form from below (available from 17th August) or grab one from the Tourist Information Centre or The Pod\, Friary Walk (formally Crowngate) and go as wild as you like putting him back to his full technicolour glory! Crayons\, paint\, feathers\, sparkles…anything goes! Then take a snap of your work of art and email it to marketing@worcesterfestival.co.uk or drop it in to the Tourist Information Centre or The POD\, Friary Walk. The entries will be judged in three different categories\, 2-5 year olds\, 6-9 year olds and 10 and over. The winners of each category will win a very special Worcester Festival prize!  Happy colouring!  By entering\, you automatically give us permission to display entries on The Worcester Festival’s website and social and printed media. Personal information such as child’s full name and age will be redacted from entries.
URL:https://worcesterfestival.co.uk/event/percy-peacock-colouring-competition/2026-08-22/
LOCATION:The Pod\, Friary Walk/ Worcester TIC /Worcester Festival Website
CATEGORIES:Competition,Family,Free,Get Creative
ATTACH;FMTTYPE=image/png:https://worcesterfestival.co.uk/wp-content/uploads/2025/07/Untitled-design-20.png
END:VEVENT
BEGIN:VEVENT
DTSTART;TZID=Europe/London:20260823T000000
DTEND;TZID=Europe/London:20260823T235959
DTSTAMP:20260423T074103
CREATED:20260422T125044Z
LAST-MODIFIED:20260422T125044Z
UID:10004015-1787443200-1787529599@worcesterfestival.co.uk
SUMMARY:Percy Peacock Colouring Competition
DESCRIPTION:Oh no – Percy’s all washed out and he needs you to colour him back in! Download a colour-me-in Percy form from below (available from 17th August) or grab one from the Tourist Information Centre or The Pod\, Friary Walk (formally Crowngate) and go as wild as you like putting him back to his full technicolour glory! Crayons\, paint\, feathers\, sparkles…anything goes! Then take a snap of your work of art and email it to marketing@worcesterfestival.co.uk or drop it in to the Tourist Information Centre or The POD\, Friary Walk. The entries will be judged in three different categories\, 2-5 year olds\, 6-9 year olds and 10 and over. The winners of each category will win a very special Worcester Festival prize!  Happy colouring!  By entering\, you automatically give us permission to display entries on The Worcester Festival’s website and social and printed media. Personal information such as child’s full name and age will be redacted from entries.
URL:https://worcesterfestival.co.uk/event/percy-peacock-colouring-competition/2026-08-23/
LOCATION:The Pod\, Friary Walk/ Worcester TIC /Worcester Festival Website
CATEGORIES:Competition,Family,Free,Get Creative
ATTACH;FMTTYPE=image/png:https://worcesterfestival.co.uk/wp-content/uploads/2025/07/Untitled-design-20.png
END:VEVENT
BEGIN:VEVENT
DTSTART;TZID=Europe/London:20260824T000000
DTEND;TZID=Europe/London:20260824T235959
DTSTAMP:20260423T074103
CREATED:20260422T125044Z
LAST-MODIFIED:20260422T125044Z
UID:10004016-1787529600-1787615999@worcesterfestival.co.uk
SUMMARY:Percy Peacock Colouring Competition
DESCRIPTION:Oh no – Percy’s all washed out and he needs you to colour him back in! Download a colour-me-in Percy form from below (available from 17th August) or grab one from the Tourist Information Centre or The Pod\, Friary Walk (formally Crowngate) and go as wild as you like putting him back to his full technicolour glory! Crayons\, paint\, feathers\, sparkles…anything goes! Then take a snap of your work of art and email it to marketing@worcesterfestival.co.uk or drop it in to the Tourist Information Centre or The POD\, Friary Walk. The entries will be judged in three different categories\, 2-5 year olds\, 6-9 year olds and 10 and over. The winners of each category will win a very special Worcester Festival prize!  Happy colouring!  By entering\, you automatically give us permission to display entries on The Worcester Festival’s website and social and printed media. Personal information such as child’s full name and age will be redacted from entries.
URL:https://worcesterfestival.co.uk/event/percy-peacock-colouring-competition/2026-08-24/
LOCATION:The Pod\, Friary Walk/ Worcester TIC /Worcester Festival Website
CATEGORIES:Competition,Family,Free,Get Creative
ATTACH;FMTTYPE=image/png:https://worcesterfestival.co.uk/wp-content/uploads/2025/07/Untitled-design-20.png
END:VEVENT
BEGIN:VEVENT
DTSTART;TZID=Europe/London:20260825T000000
DTEND;TZID=Europe/London:20260825T235959
DTSTAMP:20260423T074103
CREATED:20260422T125044Z
LAST-MODIFIED:20260422T125044Z
UID:10004017-1787616000-1787702399@worcesterfestival.co.uk
SUMMARY:Percy Peacock Colouring Competition
DESCRIPTION:Oh no – Percy’s all washed out and he needs you to colour him back in! Download a colour-me-in Percy form from below (available from 17th August) or grab one from the Tourist Information Centre or The Pod\, Friary Walk (formally Crowngate) and go as wild as you like putting him back to his full technicolour glory! Crayons\, paint\, feathers\, sparkles…anything goes! Then take a snap of your work of art and email it to marketing@worcesterfestival.co.uk or drop it in to the Tourist Information Centre or The POD\, Friary Walk. The entries will be judged in three different categories\, 2-5 year olds\, 6-9 year olds and 10 and over. The winners of each category will win a very special Worcester Festival prize!  Happy colouring!  By entering\, you automatically give us permission to display entries on The Worcester Festival’s website and social and printed media. Personal information such as child’s full name and age will be redacted from entries.
URL:https://worcesterfestival.co.uk/event/percy-peacock-colouring-competition/2026-08-25/
LOCATION:The Pod\, Friary Walk/ Worcester TIC /Worcester Festival Website
CATEGORIES:Competition,Family,Free,Get Creative
ATTACH;FMTTYPE=image/png:https://worcesterfestival.co.uk/wp-content/uploads/2025/07/Untitled-design-20.png
END:VEVENT
BEGIN:VEVENT
DTSTART;TZID=Europe/London:20260826T000000
DTEND;TZID=Europe/London:20260826T235959
DTSTAMP:20260423T074103
CREATED:20260422T125044Z
LAST-MODIFIED:20260422T125044Z
UID:10004018-1787702400-1787788799@worcesterfestival.co.uk
SUMMARY:Percy Peacock Colouring Competition
DESCRIPTION:Oh no – Percy’s all washed out and he needs you to colour him back in! Download a colour-me-in Percy form from below (available from 17th August) or grab one from the Tourist Information Centre or The Pod\, Friary Walk (formally Crowngate) and go as wild as you like putting him back to his full technicolour glory! Crayons\, paint\, feathers\, sparkles…anything goes! Then take a snap of your work of art and email it to marketing@worcesterfestival.co.uk or drop it in to the Tourist Information Centre or The POD\, Friary Walk. The entries will be judged in three different categories\, 2-5 year olds\, 6-9 year olds and 10 and over. The winners of each category will win a very special Worcester Festival prize!  Happy colouring!  By entering\, you automatically give us permission to display entries on The Worcester Festival’s website and social and printed media. Personal information such as child’s full name and age will be redacted from entries.
URL:https://worcesterfestival.co.uk/event/percy-peacock-colouring-competition/2026-08-26/
LOCATION:The Pod\, Friary Walk/ Worcester TIC /Worcester Festival Website
CATEGORIES:Competition,Family,Free,Get Creative
ATTACH;FMTTYPE=image/png:https://worcesterfestival.co.uk/wp-content/uploads/2025/07/Untitled-design-20.png
END:VEVENT
BEGIN:VEVENT
DTSTART;TZID=Europe/London:20260827T000000
DTEND;TZID=Europe/London:20260827T235959
DTSTAMP:20260423T074103
CREATED:20260422T125044Z
LAST-MODIFIED:20260422T125044Z
UID:10004019-1787788800-1787875199@worcesterfestival.co.uk
SUMMARY:Percy Peacock Colouring Competition
DESCRIPTION:Oh no – Percy’s all washed out and he needs you to colour him back in! Download a colour-me-in Percy form from below (available from 17th August) or grab one from the Tourist Information Centre or The Pod\, Friary Walk (formally Crowngate) and go as wild as you like putting him back to his full technicolour glory! Crayons\, paint\, feathers\, sparkles…anything goes! Then take a snap of your work of art and email it to marketing@worcesterfestival.co.uk or drop it in to the Tourist Information Centre or The POD\, Friary Walk. The entries will be judged in three different categories\, 2-5 year olds\, 6-9 year olds and 10 and over. The winners of each category will win a very special Worcester Festival prize!  Happy colouring!  By entering\, you automatically give us permission to display entries on The Worcester Festival’s website and social and printed media. Personal information such as child’s full name and age will be redacted from entries.
URL:https://worcesterfestival.co.uk/event/percy-peacock-colouring-competition/2026-08-27/
LOCATION:The Pod\, Friary Walk/ Worcester TIC /Worcester Festival Website
CATEGORIES:Competition,Family,Free,Get Creative
ATTACH;FMTTYPE=image/png:https://worcesterfestival.co.uk/wp-content/uploads/2025/07/Untitled-design-20.png
END:VEVENT
BEGIN:VEVENT
DTSTART;TZID=Europe/London:20260828T000000
DTEND;TZID=Europe/London:20260828T235959
DTSTAMP:20260423T074103
CREATED:20260422T125044Z
LAST-MODIFIED:20260422T125044Z
UID:10004020-1787875200-1787961599@worcesterfestival.co.uk
SUMMARY:Percy Peacock Colouring Competition
DESCRIPTION:Oh no – Percy’s all washed out and he needs you to colour him back in! Download a colour-me-in Percy form from below (available from 17th August) or grab one from the Tourist Information Centre or The Pod\, Friary Walk (formally Crowngate) and go as wild as you like putting him back to his full technicolour glory! Crayons\, paint\, feathers\, sparkles…anything goes! Then take a snap of your work of art and email it to marketing@worcesterfestival.co.uk or drop it in to the Tourist Information Centre or The POD\, Friary Walk. The entries will be judged in three different categories\, 2-5 year olds\, 6-9 year olds and 10 and over. The winners of each category will win a very special Worcester Festival prize!  Happy colouring!  By entering\, you automatically give us permission to display entries on The Worcester Festival’s website and social and printed media. Personal information such as child’s full name and age will be redacted from entries.
URL:https://worcesterfestival.co.uk/event/percy-peacock-colouring-competition/2026-08-28/
LOCATION:The Pod\, Friary Walk/ Worcester TIC /Worcester Festival Website
CATEGORIES:Competition,Family,Free,Get Creative
ATTACH;FMTTYPE=image/png:https://worcesterfestival.co.uk/wp-content/uploads/2025/07/Untitled-design-20.png
END:VEVENT
BEGIN:VEVENT
DTSTART;TZID=Europe/London:20260829T000000
DTEND;TZID=Europe/London:20260829T235959
DTSTAMP:20260423T074103
CREATED:20260422T125044Z
LAST-MODIFIED:20260422T125044Z
UID:10004021-1787961600-1788047999@worcesterfestival.co.uk
SUMMARY:Percy Peacock Colouring Competition
DESCRIPTION:Oh no – Percy’s all washed out and he needs you to colour him back in! Download a colour-me-in Percy form from below (available from 17th August) or grab one from the Tourist Information Centre or The Pod\, Friary Walk (formally Crowngate) and go as wild as you like putting him back to his full technicolour glory! Crayons\, paint\, feathers\, sparkles…anything goes! Then take a snap of your work of art and email it to marketing@worcesterfestival.co.uk or drop it in to the Tourist Information Centre or The POD\, Friary Walk. The entries will be judged in three different categories\, 2-5 year olds\, 6-9 year olds and 10 and over. The winners of each category will win a very special Worcester Festival prize!  Happy colouring!  By entering\, you automatically give us permission to display entries on The Worcester Festival’s website and social and printed media. Personal information such as child’s full name and age will be redacted from entries.
URL:https://worcesterfestival.co.uk/event/percy-peacock-colouring-competition/2026-08-29/
LOCATION:The Pod\, Friary Walk/ Worcester TIC /Worcester Festival Website
CATEGORIES:Competition,Family,Free,Get Creative
ATTACH;FMTTYPE=image/png:https://worcesterfestival.co.uk/wp-content/uploads/2025/07/Untitled-design-20.png
END:VEVENT
BEGIN:VEVENT
DTSTART;TZID=Europe/London:20260830T000000
DTEND;TZID=Europe/London:20260830T235959
DTSTAMP:20260423T074103
CREATED:20260422T125044Z
LAST-MODIFIED:20260422T125044Z
UID:10004022-1788048000-1788134399@worcesterfestival.co.uk
SUMMARY:Percy Peacock Colouring Competition
DESCRIPTION:Oh no – Percy’s all washed out and he needs you to colour him back in! Download a colour-me-in Percy form from below (available from 17th August) or grab one from the Tourist Information Centre or The Pod\, Friary Walk (formally Crowngate) and go as wild as you like putting him back to his full technicolour glory! Crayons\, paint\, feathers\, sparkles…anything goes! Then take a snap of your work of art and email it to marketing@worcesterfestival.co.uk or drop it in to the Tourist Information Centre or The POD\, Friary Walk. The entries will be judged in three different categories\, 2-5 year olds\, 6-9 year olds and 10 and over. The winners of each category will win a very special Worcester Festival prize!  Happy colouring!  By entering\, you automatically give us permission to display entries on The Worcester Festival’s website and social and printed media. Personal information such as child’s full name and age will be redacted from entries.
URL:https://worcesterfestival.co.uk/event/percy-peacock-colouring-competition/2026-08-30/
LOCATION:The Pod\, Friary Walk/ Worcester TIC /Worcester Festival Website
CATEGORIES:Competition,Family,Free,Get Creative
ATTACH;FMTTYPE=image/png:https://worcesterfestival.co.uk/wp-content/uploads/2025/07/Untitled-design-20.png
END:VEVENT
BEGIN:VEVENT
DTSTART;TZID=Europe/London:20260831T000000
DTEND;TZID=Europe/London:20260831T235959
DTSTAMP:20260423T074103
CREATED:20260422T125044Z
LAST-MODIFIED:20260422T125044Z
UID:10004023-1788134400-1788220799@worcesterfestival.co.uk
SUMMARY:Percy Peacock Colouring Competition
DESCRIPTION:Oh no – Percy’s all washed out and he needs you to colour him back in! Download a colour-me-in Percy form from below (available from 17th August) or grab one from the Tourist Information Centre or The Pod\, Friary Walk (formally Crowngate) and go as wild as you like putting him back to his full technicolour glory! Crayons\, paint\, feathers\, sparkles…anything goes! Then take a snap of your work of art and email it to marketing@worcesterfestival.co.uk or drop it in to the Tourist Information Centre or The POD\, Friary Walk. The entries will be judged in three different categories\, 2-5 year olds\, 6-9 year olds and 10 and over. The winners of each category will win a very special Worcester Festival prize!  Happy colouring!  By entering\, you automatically give us permission to display entries on The Worcester Festival’s website and social and printed media. Personal information such as child’s full name and age will be redacted from entries.
URL:https://worcesterfestival.co.uk/event/percy-peacock-colouring-competition/2026-08-31/
LOCATION:The Pod\, Friary Walk/ Worcester TIC /Worcester Festival Website
CATEGORIES:Competition,Family,Free,Get Creative
ATTACH;FMTTYPE=image/png:https://worcesterfestival.co.uk/wp-content/uploads/2025/07/Untitled-design-20.png
END:VEVENT
END:VCALENDAR