BEGIN:VCALENDAR
VERSION:2.0
PRODID:-//Worcester Festival - ECPv6.15.20//NONSGML v1.0//EN
CALSCALE:GREGORIAN
METHOD:PUBLISH
X-WR-CALNAME:Worcester Festival
X-ORIGINAL-URL:https://worcesterfestival.co.uk
X-WR-CALDESC:Events for Worcester Festival
REFRESH-INTERVAL;VALUE=DURATION:PT1H
X-Robots-Tag:noindex
X-PUBLISHED-TTL:PT1H
BEGIN:VTIMEZONE
TZID:Europe/London
BEGIN:DAYLIGHT
TZOFFSETFROM:+0000
TZOFFSETTO:+0100
TZNAME:BST
DTSTART:20250330T010000
END:DAYLIGHT
BEGIN:STANDARD
TZOFFSETFROM:+0100
TZOFFSETTO:+0000
TZNAME:GMT
DTSTART:20251026T010000
END:STANDARD
BEGIN:DAYLIGHT
TZOFFSETFROM:+0000
TZOFFSETTO:+0100
TZNAME:BST
DTSTART:20260329T010000
END:DAYLIGHT
BEGIN:STANDARD
TZOFFSETFROM:+0100
TZOFFSETTO:+0000
TZNAME:GMT
DTSTART:20261025T010000
END:STANDARD
BEGIN:DAYLIGHT
TZOFFSETFROM:+0000
TZOFFSETTO:+0100
TZNAME:BST
DTSTART:20270328T010000
END:DAYLIGHT
BEGIN:STANDARD
TZOFFSETFROM:+0100
TZOFFSETTO:+0000
TZNAME:GMT
DTSTART:20271031T010000
END:STANDARD
END:VTIMEZONE
BEGIN:VEVENT
DTSTART;TZID=Europe/London:20260821T000000
DTEND;TZID=Europe/London:20260821T235959
DTSTAMP:20260423T091011
CREATED:20260422T133903Z
LAST-MODIFIED:20260422T133903Z
UID:10004057-1787270400-1787356799@worcesterfestival.co.uk
SUMMARY:Pet Photography Competition
DESCRIPTION:Snap a picture of your pooch\, kitten\, hamster\, lizard\, rabbit\, or other domestic animal and email it to marketing@worcesterfestival.co.uk. This competition will be judged in 3 categories 1. Cutest Cat 2. Cutest Dog and 3. Cutest pet (not a cat or dog)! By entering\, you are giving automatically giving us permission to display entries on the Festival website\, social media pages and in the Worcester News. \nPhoto of Bow the dog by Jennifer Hughes last years winner of cutest dog
URL:https://worcesterfestival.co.uk/event/pet-photography-competition/2026-08-21/
LOCATION:Worcester Festival Website
CATEGORIES:Competition,Family,Free
ATTACH;FMTTYPE=image/png:https://worcesterfestival.co.uk/wp-content/uploads/2026/04/Bow-resized.png
END:VEVENT
BEGIN:VEVENT
DTSTART;TZID=Europe/London:20260822T000000
DTEND;TZID=Europe/London:20260822T235959
DTSTAMP:20260423T091011
CREATED:20260422T133903Z
LAST-MODIFIED:20260422T133903Z
UID:10004058-1787356800-1787443199@worcesterfestival.co.uk
SUMMARY:Pet Photography Competition
DESCRIPTION:Snap a picture of your pooch\, kitten\, hamster\, lizard\, rabbit\, or other domestic animal and email it to marketing@worcesterfestival.co.uk. This competition will be judged in 3 categories 1. Cutest Cat 2. Cutest Dog and 3. Cutest pet (not a cat or dog)! By entering\, you are giving automatically giving us permission to display entries on the Festival website\, social media pages and in the Worcester News. \nPhoto of Bow the dog by Jennifer Hughes last years winner of cutest dog
URL:https://worcesterfestival.co.uk/event/pet-photography-competition/2026-08-22/
LOCATION:Worcester Festival Website
CATEGORIES:Competition,Family,Free
ATTACH;FMTTYPE=image/png:https://worcesterfestival.co.uk/wp-content/uploads/2026/04/Bow-resized.png
END:VEVENT
BEGIN:VEVENT
DTSTART;TZID=Europe/London:20260823T000000
DTEND;TZID=Europe/London:20260823T235959
DTSTAMP:20260423T091011
CREATED:20260422T133903Z
LAST-MODIFIED:20260422T133903Z
UID:10004059-1787443200-1787529599@worcesterfestival.co.uk
SUMMARY:Pet Photography Competition
DESCRIPTION:Snap a picture of your pooch\, kitten\, hamster\, lizard\, rabbit\, or other domestic animal and email it to marketing@worcesterfestival.co.uk. This competition will be judged in 3 categories 1. Cutest Cat 2. Cutest Dog and 3. Cutest pet (not a cat or dog)! By entering\, you are giving automatically giving us permission to display entries on the Festival website\, social media pages and in the Worcester News. \nPhoto of Bow the dog by Jennifer Hughes last years winner of cutest dog
URL:https://worcesterfestival.co.uk/event/pet-photography-competition/2026-08-23/
LOCATION:Worcester Festival Website
CATEGORIES:Competition,Family,Free
ATTACH;FMTTYPE=image/png:https://worcesterfestival.co.uk/wp-content/uploads/2026/04/Bow-resized.png
END:VEVENT
BEGIN:VEVENT
DTSTART;TZID=Europe/London:20260824T000000
DTEND;TZID=Europe/London:20260824T235959
DTSTAMP:20260423T091011
CREATED:20260422T133903Z
LAST-MODIFIED:20260422T133903Z
UID:10004060-1787529600-1787615999@worcesterfestival.co.uk
SUMMARY:Pet Photography Competition
DESCRIPTION:Snap a picture of your pooch\, kitten\, hamster\, lizard\, rabbit\, or other domestic animal and email it to marketing@worcesterfestival.co.uk. This competition will be judged in 3 categories 1. Cutest Cat 2. Cutest Dog and 3. Cutest pet (not a cat or dog)! By entering\, you are giving automatically giving us permission to display entries on the Festival website\, social media pages and in the Worcester News. \nPhoto of Bow the dog by Jennifer Hughes last years winner of cutest dog
URL:https://worcesterfestival.co.uk/event/pet-photography-competition/2026-08-24/
LOCATION:Worcester Festival Website
CATEGORIES:Competition,Family,Free
ATTACH;FMTTYPE=image/png:https://worcesterfestival.co.uk/wp-content/uploads/2026/04/Bow-resized.png
END:VEVENT
BEGIN:VEVENT
DTSTART;TZID=Europe/London:20260825T000000
DTEND;TZID=Europe/London:20260825T235959
DTSTAMP:20260423T091011
CREATED:20260422T133903Z
LAST-MODIFIED:20260422T133903Z
UID:10004061-1787616000-1787702399@worcesterfestival.co.uk
SUMMARY:Pet Photography Competition
DESCRIPTION:Snap a picture of your pooch\, kitten\, hamster\, lizard\, rabbit\, or other domestic animal and email it to marketing@worcesterfestival.co.uk. This competition will be judged in 3 categories 1. Cutest Cat 2. Cutest Dog and 3. Cutest pet (not a cat or dog)! By entering\, you are giving automatically giving us permission to display entries on the Festival website\, social media pages and in the Worcester News. \nPhoto of Bow the dog by Jennifer Hughes last years winner of cutest dog
URL:https://worcesterfestival.co.uk/event/pet-photography-competition/2026-08-25/
LOCATION:Worcester Festival Website
CATEGORIES:Competition,Family,Free
ATTACH;FMTTYPE=image/png:https://worcesterfestival.co.uk/wp-content/uploads/2026/04/Bow-resized.png
END:VEVENT
BEGIN:VEVENT
DTSTART;TZID=Europe/London:20260826T000000
DTEND;TZID=Europe/London:20260826T235959
DTSTAMP:20260423T091011
CREATED:20260422T133903Z
LAST-MODIFIED:20260422T133903Z
UID:10004062-1787702400-1787788799@worcesterfestival.co.uk
SUMMARY:Pet Photography Competition
DESCRIPTION:Snap a picture of your pooch\, kitten\, hamster\, lizard\, rabbit\, or other domestic animal and email it to marketing@worcesterfestival.co.uk. This competition will be judged in 3 categories 1. Cutest Cat 2. Cutest Dog and 3. Cutest pet (not a cat or dog)! By entering\, you are giving automatically giving us permission to display entries on the Festival website\, social media pages and in the Worcester News. \nPhoto of Bow the dog by Jennifer Hughes last years winner of cutest dog
URL:https://worcesterfestival.co.uk/event/pet-photography-competition/2026-08-26/
LOCATION:Worcester Festival Website
CATEGORIES:Competition,Family,Free
ATTACH;FMTTYPE=image/png:https://worcesterfestival.co.uk/wp-content/uploads/2026/04/Bow-resized.png
END:VEVENT
BEGIN:VEVENT
DTSTART;TZID=Europe/London:20260827T000000
DTEND;TZID=Europe/London:20260827T235959
DTSTAMP:20260423T091011
CREATED:20260422T133903Z
LAST-MODIFIED:20260422T133903Z
UID:10004063-1787788800-1787875199@worcesterfestival.co.uk
SUMMARY:Pet Photography Competition
DESCRIPTION:Snap a picture of your pooch\, kitten\, hamster\, lizard\, rabbit\, or other domestic animal and email it to marketing@worcesterfestival.co.uk. This competition will be judged in 3 categories 1. Cutest Cat 2. Cutest Dog and 3. Cutest pet (not a cat or dog)! By entering\, you are giving automatically giving us permission to display entries on the Festival website\, social media pages and in the Worcester News. \nPhoto of Bow the dog by Jennifer Hughes last years winner of cutest dog
URL:https://worcesterfestival.co.uk/event/pet-photography-competition/2026-08-27/
LOCATION:Worcester Festival Website
CATEGORIES:Competition,Family,Free
ATTACH;FMTTYPE=image/png:https://worcesterfestival.co.uk/wp-content/uploads/2026/04/Bow-resized.png
END:VEVENT
BEGIN:VEVENT
DTSTART;TZID=Europe/London:20260828T000000
DTEND;TZID=Europe/London:20260828T235959
DTSTAMP:20260423T091011
CREATED:20260422T133903Z
LAST-MODIFIED:20260422T133903Z
UID:10004064-1787875200-1787961599@worcesterfestival.co.uk
SUMMARY:Pet Photography Competition
DESCRIPTION:Snap a picture of your pooch\, kitten\, hamster\, lizard\, rabbit\, or other domestic animal and email it to marketing@worcesterfestival.co.uk. This competition will be judged in 3 categories 1. Cutest Cat 2. Cutest Dog and 3. Cutest pet (not a cat or dog)! By entering\, you are giving automatically giving us permission to display entries on the Festival website\, social media pages and in the Worcester News. \nPhoto of Bow the dog by Jennifer Hughes last years winner of cutest dog
URL:https://worcesterfestival.co.uk/event/pet-photography-competition/2026-08-28/
LOCATION:Worcester Festival Website
CATEGORIES:Competition,Family,Free
ATTACH;FMTTYPE=image/png:https://worcesterfestival.co.uk/wp-content/uploads/2026/04/Bow-resized.png
END:VEVENT
BEGIN:VEVENT
DTSTART;TZID=Europe/London:20260829T000000
DTEND;TZID=Europe/London:20260829T235959
DTSTAMP:20260423T091011
CREATED:20260422T133903Z
LAST-MODIFIED:20260422T133903Z
UID:10004065-1787961600-1788047999@worcesterfestival.co.uk
SUMMARY:Pet Photography Competition
DESCRIPTION:Snap a picture of your pooch\, kitten\, hamster\, lizard\, rabbit\, or other domestic animal and email it to marketing@worcesterfestival.co.uk. This competition will be judged in 3 categories 1. Cutest Cat 2. Cutest Dog and 3. Cutest pet (not a cat or dog)! By entering\, you are giving automatically giving us permission to display entries on the Festival website\, social media pages and in the Worcester News. \nPhoto of Bow the dog by Jennifer Hughes last years winner of cutest dog
URL:https://worcesterfestival.co.uk/event/pet-photography-competition/2026-08-29/
LOCATION:Worcester Festival Website
CATEGORIES:Competition,Family,Free
ATTACH;FMTTYPE=image/png:https://worcesterfestival.co.uk/wp-content/uploads/2026/04/Bow-resized.png
END:VEVENT
BEGIN:VEVENT
DTSTART;TZID=Europe/London:20260830T000000
DTEND;TZID=Europe/London:20260830T235959
DTSTAMP:20260423T091011
CREATED:20260422T133903Z
LAST-MODIFIED:20260422T133903Z
UID:10004066-1788048000-1788134399@worcesterfestival.co.uk
SUMMARY:Pet Photography Competition
DESCRIPTION:Snap a picture of your pooch\, kitten\, hamster\, lizard\, rabbit\, or other domestic animal and email it to marketing@worcesterfestival.co.uk. This competition will be judged in 3 categories 1. Cutest Cat 2. Cutest Dog and 3. Cutest pet (not a cat or dog)! By entering\, you are giving automatically giving us permission to display entries on the Festival website\, social media pages and in the Worcester News. \nPhoto of Bow the dog by Jennifer Hughes last years winner of cutest dog
URL:https://worcesterfestival.co.uk/event/pet-photography-competition/2026-08-30/
LOCATION:Worcester Festival Website
CATEGORIES:Competition,Family,Free
ATTACH;FMTTYPE=image/png:https://worcesterfestival.co.uk/wp-content/uploads/2026/04/Bow-resized.png
END:VEVENT
BEGIN:VEVENT
DTSTART;TZID=Europe/London:20260831T000000
DTEND;TZID=Europe/London:20260831T235959
DTSTAMP:20260423T091011
CREATED:20260422T133903Z
LAST-MODIFIED:20260422T133903Z
UID:10004067-1788134400-1788220799@worcesterfestival.co.uk
SUMMARY:Pet Photography Competition
DESCRIPTION:Snap a picture of your pooch\, kitten\, hamster\, lizard\, rabbit\, or other domestic animal and email it to marketing@worcesterfestival.co.uk. This competition will be judged in 3 categories 1. Cutest Cat 2. Cutest Dog and 3. Cutest pet (not a cat or dog)! By entering\, you are giving automatically giving us permission to display entries on the Festival website\, social media pages and in the Worcester News. \nPhoto of Bow the dog by Jennifer Hughes last years winner of cutest dog
URL:https://worcesterfestival.co.uk/event/pet-photography-competition/2026-08-31/
LOCATION:Worcester Festival Website
CATEGORIES:Competition,Family,Free
ATTACH;FMTTYPE=image/png:https://worcesterfestival.co.uk/wp-content/uploads/2026/04/Bow-resized.png
END:VEVENT
END:VCALENDAR